BEGIN:VCALENDAR
VERSION:2.0
PRODID:-//Brad Elting &amp; Company - ECPv6.15.20//NONSGML v1.0//EN
CALSCALE:GREGORIAN
METHOD:PUBLISH
X-WR-CALNAME:Brad Elting &amp; Company
X-ORIGINAL-URL:https://eltingauction.com
X-WR-CALDESC:Events for Brad Elting &amp; Company
REFRESH-INTERVAL;VALUE=DURATION:PT1H
X-Robots-Tag:noindex
X-PUBLISHED-TTL:PT1H
BEGIN:VTIMEZONE
TZID:America/Chicago
BEGIN:DAYLIGHT
TZOFFSETFROM:-0600
TZOFFSETTO:-0500
TZNAME:CDT
DTSTART:20250309T080000
END:DAYLIGHT
BEGIN:STANDARD
TZOFFSETFROM:-0500
TZOFFSETTO:-0600
TZNAME:CST
DTSTART:20251102T070000
END:STANDARD
BEGIN:DAYLIGHT
TZOFFSETFROM:-0600
TZOFFSETTO:-0500
TZNAME:CDT
DTSTART:20260308T080000
END:DAYLIGHT
BEGIN:STANDARD
TZOFFSETFROM:-0500
TZOFFSETTO:-0600
TZNAME:CST
DTSTART:20261101T070000
END:STANDARD
BEGIN:DAYLIGHT
TZOFFSETFROM:-0600
TZOFFSETTO:-0500
TZNAME:CDT
DTSTART:20270314T080000
END:DAYLIGHT
BEGIN:STANDARD
TZOFFSETFROM:-0500
TZOFFSETTO:-0600
TZNAME:CST
DTSTART:20271107T070000
END:STANDARD
END:VTIMEZONE
BEGIN:VEVENT
DTSTART;VALUE=DATE:20260415
DTEND;VALUE=DATE:20260416
DTSTAMP:20260420T041147
CREATED:20260402T015805Z
LAST-MODIFIED:20260402T015809Z
UID:10270-1776211200-1776297599@eltingauction.com
SUMMARY:Trudy Dunkin Shop Equipment & Tool Auction
DESCRIPTION:SHOP EQUIPMENT & TOOLS ONLINE ONLY AUCTION (Seller: Trudy Dunkin) \n			\n			\n				\n				\n				\n				\n			\n				\n				\n				\n				\n				\n				\n				\n				\n				\n				\n				Timed Online Only Auction through AuctionTime.com  \nLive Bidding Opens: Wednesday\, April 1st\, 2026\, 5:00 PM (CST) \nSale Ends: Wednesday\, April 15th\, 2026 – Starting at 10:00 AM (CST)  \nEquipment Location: 1114 Road K\, Geneva\, NE \nPick Up Date: April 17th\, 2026 (2:00 PM – 4:00 PM) – No Exceptions  \nBuyer’s Premium: 10% \nPayment Options: Cash or check at pickup (no out-of-state checks). Credit card payments are accepted but must be completed prior to the day of pickup. Please call the office at (402) 768-7270 to process a credit card payment. \nExplore the full auction lineup\, complete with pictures\, videos\, and equipment descriptions\, by clicking the “Online Bidding” tab. \n			\n			\n				\n				\n				\n				\n			\n				\n				\n				\n				\n				\n				\n				\n				\n				\n				\n				Explore the full auction lineup\, complete with pictures\, videos\, and equipment descriptions\, by clicking the “Online Bidding” tab. \n			\n				ONLINE BIDDING\n			\n			\n				\n				\n				\n				\n			\n				\n				\n				\n				\n				\n				\n				\n				\n				\n				\n				If you are not already registered with AuctionTime.com\, please click the following\nlink to get registered for the auction. \n			\n				Auction Registration\n			\n			\n				\n				\n				\n				\n			\n				\n				\n				\n				\n				\n				\n				\n				\n				\n				\n				Terms and Conditions: Upon winning the bid\, the successful bidder must promptly contact Brad Elting & Co.\, Inc. within 24 hours to confirm the method of payment. No equipment will be released until full payment has been received. All items are sold on an “as is\, where is” basis\, with no warranties expressed or implied. It is the responsibility of the buyer to conduct due diligence and inspect the equipment personally to ensure its working order and condition. All sales are final\, so please address any equipment-related queries before placing a bid. Buyers are accountable for arranging shipping. Purchased items must be removed by  April 17th\, 2026. Payment is accepted via wire transfer\, bank check\, or cash\, with payments required to be made and cleared within one week of the auction date. Invoices and wire instructions will be sent to the email address used for registration with AuctionTime.com within 24 hours of the sale’s conclusion; kindly reach out to our office if you do not receive the email. Additional handling and equipment loading fees may apply; please contact Elting Auction Co. for further details.
URL:https://eltingauction.com/event/dunkinauction/
LOCATION:Online Auction
CATEGORIES:Equipment
ORGANIZER;CN="Elting Auction Co.":MAILTO:nathan@eltingauction.com
END:VEVENT
END:VCALENDAR